BEGIN:VCALENDAR
VERSION:2.0
PRODID:-//Benhall Farm B&amp;B - ECPv6.15.20//NONSGML v1.0//EN
CALSCALE:GREGORIAN
METHOD:PUBLISH
X-ORIGINAL-URL:https://benhallfarm.co.uk
X-WR-CALDESC:Events for Benhall Farm B&amp;B
REFRESH-INTERVAL;VALUE=DURATION:PT1H
X-Robots-Tag:noindex
X-PUBLISHED-TTL:PT1H
BEGIN:VTIMEZONE
TZID:Europe/London
BEGIN:DAYLIGHT
TZOFFSETFROM:+0000
TZOFFSETTO:+0100
TZNAME:BST
DTSTART:20240331T010000
END:DAYLIGHT
BEGIN:STANDARD
TZOFFSETFROM:+0100
TZOFFSETTO:+0000
TZNAME:GMT
DTSTART:20241027T010000
END:STANDARD
BEGIN:DAYLIGHT
TZOFFSETFROM:+0000
TZOFFSETTO:+0100
TZNAME:BST
DTSTART:20250330T010000
END:DAYLIGHT
BEGIN:STANDARD
TZOFFSETFROM:+0100
TZOFFSETTO:+0000
TZNAME:GMT
DTSTART:20251026T010000
END:STANDARD
BEGIN:DAYLIGHT
TZOFFSETFROM:+0000
TZOFFSETTO:+0100
TZNAME:BST
DTSTART:20260329T010000
END:DAYLIGHT
BEGIN:STANDARD
TZOFFSETFROM:+0100
TZOFFSETTO:+0000
TZNAME:GMT
DTSTART:20261025T010000
END:STANDARD
END:VTIMEZONE
BEGIN:VEVENT
DTSTART;VALUE=DATE:20251102
DTEND;VALUE=DATE:20251103
DTSTAMP:20260419T180852
CREATED:20250211T221253Z
LAST-MODIFIED:20250211T221253Z
UID:4552-1762041600-1762127999@benhallfarm.co.uk
SUMMARY:Malvern Flea and Collectors Fair
DESCRIPTION:
URL:https://benhallfarm.co.uk/event/malvern-flea-and-collectors-fair-8/
CATEGORIES:events
END:VEVENT
BEGIN:VEVENT
DTSTART;VALUE=DATE:20251103
DTEND;VALUE=DATE:20251104
DTSTAMP:20260419T180852
CREATED:20250211T221812Z
LAST-MODIFIED:20250211T221812Z
UID:4566-1762128000-1762214399@benhallfarm.co.uk
SUMMARY:Autumn Afternoon Racing - Hereford Racecourse
DESCRIPTION:
URL:https://benhallfarm.co.uk/event/autumn-afternoon-racing-hereford-racecourse/
CATEGORIES:events
END:VEVENT
BEGIN:VEVENT
DTSTART;VALUE=DATE:20251111
DTEND;VALUE=DATE:20251112
DTSTAMP:20260419T180852
CREATED:20250211T221827Z
LAST-MODIFIED:20250211T221827Z
UID:4568-1762819200-1762905599@benhallfarm.co.uk
SUMMARY:Autumn Afternoon Racing - Hereford Racecourse
DESCRIPTION:
URL:https://benhallfarm.co.uk/event/autumn-afternoon-racing-hereford-racecourse-2/
CATEGORIES:events
END:VEVENT
BEGIN:VEVENT
DTSTART;VALUE=DATE:20251114
DTEND;VALUE=DATE:20251117
DTSTAMP:20260419T180852
CREATED:20250211T220505Z
LAST-MODIFIED:20250211T220541Z
UID:4529-1763078400-1763337599@benhallfarm.co.uk
SUMMARY:The November Meeting - Cheltenham Racecourse
DESCRIPTION:
URL:https://benhallfarm.co.uk/event/the-november-meeting-cheltenham-racecourse/
CATEGORIES:events
END:VEVENT
BEGIN:VEVENT
DTSTART;VALUE=DATE:20251125
DTEND;VALUE=DATE:20251126
DTSTAMP:20260419T180852
CREATED:20250211T221840Z
LAST-MODIFIED:20250211T221840Z
UID:4570-1764028800-1764115199@benhallfarm.co.uk
SUMMARY:Autumn Afternoon Racing - Hereford Racecourse
DESCRIPTION:
URL:https://benhallfarm.co.uk/event/autumn-afternoon-racing-hereford-racecourse-3/
CATEGORIES:events
END:VEVENT
END:VCALENDAR